BEGIN:VCALENDAR
VERSION:2.0
PRODID:-//Love INC of Sheboygan County - ECPv6.15.20//NONSGML v1.0//EN
CALSCALE:GREGORIAN
METHOD:PUBLISH
X-WR-CALNAME:Love INC of Sheboygan County
X-ORIGINAL-URL:https://loveincsheboygancounty.org
X-WR-CALDESC:Events for Love INC of Sheboygan County
REFRESH-INTERVAL;VALUE=DURATION:PT1H
X-Robots-Tag:noindex
X-PUBLISHED-TTL:PT1H
BEGIN:VTIMEZONE
TZID:America/Chicago
BEGIN:DAYLIGHT
TZOFFSETFROM:-0600
TZOFFSETTO:-0500
TZNAME:CDT
DTSTART:20250309T080000
END:DAYLIGHT
BEGIN:STANDARD
TZOFFSETFROM:-0500
TZOFFSETTO:-0600
TZNAME:CST
DTSTART:20251102T070000
END:STANDARD
BEGIN:DAYLIGHT
TZOFFSETFROM:-0600
TZOFFSETTO:-0500
TZNAME:CDT
DTSTART:20260308T080000
END:DAYLIGHT
BEGIN:STANDARD
TZOFFSETFROM:-0500
TZOFFSETTO:-0600
TZNAME:CST
DTSTART:20261101T070000
END:STANDARD
BEGIN:DAYLIGHT
TZOFFSETFROM:-0600
TZOFFSETTO:-0500
TZNAME:CDT
DTSTART:20270314T080000
END:DAYLIGHT
BEGIN:STANDARD
TZOFFSETFROM:-0500
TZOFFSETTO:-0600
TZNAME:CST
DTSTART:20271107T070000
END:STANDARD
END:VTIMEZONE
BEGIN:VEVENT
DTSTART;TZID=America/Chicago:20260430T170000
DTEND;TZID=America/Chicago:20260430T190000
DTSTAMP:20260419T112952
CREATED:20251229T050118Z
LAST-MODIFIED:20260406T023613Z
UID:10000222-1777568400-1777575600@loveincsheboygancounty.org
SUMMARY:New Way Classes for Term 1
DESCRIPTION:Meet new people\, learn new skills and strengthen your faith in the New Way Community. Learn more now! \nEach week we gather from 5:00 – 7:00 p.m. to share a meal and study together\, learning new skills and building our faith. Safe\, caring childcare is offered. \n 
URL:https://loveincsheboygancounty.org/event/new-way-classes-for-term-1-begin/2026-04-30/
LOCATION:Calvin Christian Reformed Church\, 2313 Saemann Ave\, Sheboygan\, WI\, 53081\, United States
END:VEVENT
BEGIN:VEVENT
DTSTART;TZID=America/Chicago:20260509T100000
DTEND;TZID=America/Chicago:20260509T150000
DTSTAMP:20260419T112952
CREATED:20260413T232357Z
LAST-MODIFIED:20260413T232802Z
UID:10000226-1778320800-1778338800@loveincsheboygancounty.org
SUMMARY:Brat Fry & Bake Sale Fundraiser
DESCRIPTION:
URL:https://loveincsheboygancounty.org/event/brat-fry-fundraiser/
LOCATION:Mentink’s Market Piggly Wiggly\, 118 N 9th Street\, Oostburg\, WI\, United States
END:VEVENT
BEGIN:VEVENT
DTSTART;TZID=America/Chicago:20260516T083000
DTEND;TZID=America/Chicago:20260516T100000
DTSTAMP:20260419T112952
CREATED:20260413T231232Z
LAST-MODIFIED:20260413T231232Z
UID:10000225-1778920200-1778925600@loveincsheboygancounty.org
SUMMARY:CONNECT Listening Session
DESCRIPTION:Connect Sessions are regional gatherings of local churches focused on building relationships\, listening to one another\, and discovering how we can work together to better serve our communities in the Name of Christ.
URL:https://loveincsheboygancounty.org/event/connect-listening-session-2/
LOCATION:St. Paul Lutheran Church\, 730 Cty Hwy PPP\, Sheboygan Falls\, WI\, 53085\, United States
END:VEVENT
BEGIN:VEVENT
DTSTART;TZID=America/Chicago:20260627T100000
DTEND;TZID=America/Chicago:20260627T210000
DTSTAMP:20260419T112952
CREATED:20251229T043324Z
LAST-MODIFIED:20260406T023737Z
UID:10000079-1782554400-1782594000@loveincsheboygancounty.org
SUMMARY:Putt Fore Love
DESCRIPTION:Mark your calendar and be sure to join us for the annual Putt Fore Love fundraiser on June 27 at Harbor Pointe Miniature Golf! More details to come.
URL:https://loveincsheboygancounty.org/event/putt-for-love-fundraiser/
LOCATION:Harbor Pointe Mini Golf\, 322 South Pier Dr\, Sheboygan\, WI\, 53081\, United States
END:VEVENT
END:VCALENDAR