BEGIN:VCALENDAR
VERSION:2.0
PRODID:-//Love INC of Sheboygan County - ECPv6.15.20//NONSGML v1.0//EN
CALSCALE:GREGORIAN
METHOD:PUBLISH
X-WR-CALNAME:Love INC of Sheboygan County
X-ORIGINAL-URL:https://loveincsheboygancounty.org
X-WR-CALDESC:Events for Love INC of Sheboygan County
REFRESH-INTERVAL;VALUE=DURATION:PT1H
X-Robots-Tag:noindex
X-PUBLISHED-TTL:PT1H
BEGIN:VTIMEZONE
TZID:America/Chicago
BEGIN:DAYLIGHT
TZOFFSETFROM:-0600
TZOFFSETTO:-0500
TZNAME:CDT
DTSTART:20240310T080000
END:DAYLIGHT
BEGIN:STANDARD
TZOFFSETFROM:-0500
TZOFFSETTO:-0600
TZNAME:CST
DTSTART:20241103T070000
END:STANDARD
BEGIN:DAYLIGHT
TZOFFSETFROM:-0600
TZOFFSETTO:-0500
TZNAME:CDT
DTSTART:20250309T080000
END:DAYLIGHT
BEGIN:STANDARD
TZOFFSETFROM:-0500
TZOFFSETTO:-0600
TZNAME:CST
DTSTART:20251102T070000
END:STANDARD
BEGIN:DAYLIGHT
TZOFFSETFROM:-0600
TZOFFSETTO:-0500
TZNAME:CDT
DTSTART:20260308T080000
END:DAYLIGHT
BEGIN:STANDARD
TZOFFSETFROM:-0500
TZOFFSETTO:-0600
TZNAME:CST
DTSTART:20261101T070000
END:STANDARD
END:VTIMEZONE
BEGIN:VEVENT
DTSTART;TZID=America/Chicago:20250719T100000
DTEND;TZID=America/Chicago:20250719T180000
DTSTAMP:20260422T081922
CREATED:20250512T174746Z
LAST-MODIFIED:20250515T152810Z
UID:10000073-1752919200-1752948000@loveincsheboygancounty.org
SUMMARY:Putt Fore Love Fundraiser
DESCRIPTION:Save the Date of July 19th\, 2025 for our Putt Fore Love Fundraiser! \nDate & Time: July 19th\, 2025 – 10am to 6pm \nLocation: Harbor Pointe Mini Golf \nRegistration coming soon! \nJoin us for a fun-filled day at our Putt Fore Love Fundraiser\, where laughter\, friendly competition\, and community spirit come together for a great cause! This exciting event is perfect for families\, friends\, and coworkers looking to enjoy a memorable outing while making a difference. Held at Harbor Pointe Mini Golf in Sheboygan on July 19th\, 2025\, participants will navigate a creatively themed 18-hole mini golf course while raising funds for Love INC Sheboygan County. \nWhether you’re a seasoned mini golf pro or a first-timer\, everyone is welcome to play and support our mission. All proceeds from the event will go toward Love INC Sheboygan County\, helping fund vital programs and services that benefit our local community. \nCome out\, tee off\, and help us hit our fundraising goal—one putt at a time! Bring your team spirit and join us in making this event a hole-in-one for a great cause.
URL:https://loveincsheboygancounty.org/event/putt-fore-love-fundraiser/
LOCATION:Harbor Pointe Mini Golf\, 322 South Pier Dr\, Sheboygan\, WI\, 53081\, United States
ATTACH;FMTTYPE=image/png:https://loveincsheboygancounty.org/wp-content/uploads/2025/05/0.png
END:VEVENT
END:VCALENDAR